BEGIN:VCALENDAR
VERSION:2.0
PRODID:-//HBSV Frederik Hendrik - ECPv6.15.18//NONSGML v1.0//EN
CALSCALE:GREGORIAN
METHOD:PUBLISH
X-WR-CALNAME:HBSV Frederik Hendrik
X-ORIGINAL-URL:https://www.frederikhendrik.nl
X-WR-CALDESC:Evenementen voor HBSV Frederik Hendrik
REFRESH-INTERVAL;VALUE=DURATION:PT1H
X-Robots-Tag:noindex
X-PUBLISHED-TTL:PT1H
BEGIN:VTIMEZONE
TZID:Europe/Amsterdam
BEGIN:DAYLIGHT
TZOFFSETFROM:+0100
TZOFFSETTO:+0200
TZNAME:CEST
DTSTART:20160327T010000
END:DAYLIGHT
BEGIN:STANDARD
TZOFFSETFROM:+0200
TZOFFSETTO:+0100
TZNAME:CET
DTSTART:20161030T010000
END:STANDARD
BEGIN:DAYLIGHT
TZOFFSETFROM:+0100
TZOFFSETTO:+0200
TZNAME:CEST
DTSTART:20170326T010000
END:DAYLIGHT
BEGIN:STANDARD
TZOFFSETFROM:+0200
TZOFFSETTO:+0100
TZNAME:CET
DTSTART:20171029T010000
END:STANDARD
BEGIN:DAYLIGHT
TZOFFSETFROM:+0100
TZOFFSETTO:+0200
TZNAME:CEST
DTSTART:20180325T010000
END:DAYLIGHT
BEGIN:STANDARD
TZOFFSETFROM:+0200
TZOFFSETTO:+0100
TZNAME:CET
DTSTART:20181028T010000
END:STANDARD
BEGIN:DAYLIGHT
TZOFFSETFROM:+0100
TZOFFSETTO:+0200
TZNAME:CEST
DTSTART:20190331T010000
END:DAYLIGHT
BEGIN:STANDARD
TZOFFSETFROM:+0200
TZOFFSETTO:+0100
TZNAME:CET
DTSTART:20191027T010000
END:STANDARD
BEGIN:DAYLIGHT
TZOFFSETFROM:+0100
TZOFFSETTO:+0200
TZNAME:CEST
DTSTART:20200329T010000
END:DAYLIGHT
BEGIN:STANDARD
TZOFFSETFROM:+0200
TZOFFSETTO:+0100
TZNAME:CET
DTSTART:20201025T010000
END:STANDARD
END:VTIMEZONE
BEGIN:VEVENT
DTSTART;TZID=Europe/Amsterdam:20190308T183000
DTEND;TZID=Europe/Amsterdam:20190308T200000
DTSTAMP:20260421T155516
CREATED:20190119T134259Z
LAST-MODIFIED:20190119T134405Z
UID:2209-1552069800-1552075200@www.frederikhendrik.nl
SUMMARY:Beginnerscursus (1)
DESCRIPTION:
URL:https://www.frederikhendrik.nl/event/beginnerscursus/
LOCATION:Frederik Hendrik\, Bieslandsepad 17\, Delft\, Zuid Holland\, 2616LL\, Netherlands
END:VEVENT
BEGIN:VEVENT
DTSTART;TZID=Europe/Amsterdam:20190201T183000
DTEND;TZID=Europe/Amsterdam:20190201T200000
DTSTAMP:20260421T155516
CREATED:20181212T090814Z
LAST-MODIFIED:20181212T090814Z
UID:2183-1549045800-1549051200@www.frederikhendrik.nl
SUMMARY:Beginnerscursus (4)
DESCRIPTION:
URL:https://www.frederikhendrik.nl/event/beginnerscursus-4/
LOCATION:Frederik Hendrik\, Bieslandsepad 17\, Delft\, Zuid Holland\, 2616LL\, Netherlands
END:VEVENT
BEGIN:VEVENT
DTSTART;TZID=Europe/Amsterdam:20190125T183000
DTEND;TZID=Europe/Amsterdam:20190125T200000
DTSTAMP:20260421T155516
CREATED:20181212T090555Z
LAST-MODIFIED:20181212T090555Z
UID:2180-1548441000-1548446400@www.frederikhendrik.nl
SUMMARY:Beginnerscursus (3)
DESCRIPTION:
URL:https://www.frederikhendrik.nl/event/beginnerscursus-3/
LOCATION:Frederik Hendrik\, Bieslandsepad 17\, Delft\, Zuid Holland\, 2616LL\, Netherlands
END:VEVENT
BEGIN:VEVENT
DTSTART;TZID=Europe/Amsterdam:20190118T183000
DTEND;TZID=Europe/Amsterdam:20190118T200000
DTSTAMP:20260421T155516
CREATED:20181212T090136Z
LAST-MODIFIED:20181212T090647Z
UID:2177-1547836200-1547841600@www.frederikhendrik.nl
SUMMARY:Beginnerscursus (2)
DESCRIPTION:
URL:https://www.frederikhendrik.nl/event/beginnerscursus-1-2/
LOCATION:Frederik Hendrik\, Bieslandsepad 17\, Delft\, Zuid Holland\, 2616LL\, Netherlands
END:VEVENT
BEGIN:VEVENT
DTSTART;TZID=Europe/Amsterdam:20190111T183000
DTEND;TZID=Europe/Amsterdam:20190111T200000
DTSTAMP:20260421T155516
CREATED:20181212T085931Z
LAST-MODIFIED:20181212T085931Z
UID:2174-1547231400-1547236800@www.frederikhendrik.nl
SUMMARY:Beginnerscursus (1)
DESCRIPTION:
URL:https://www.frederikhendrik.nl/event/beginnerscursus-1/
LOCATION:Frederik Hendrik\, Bieslandsepad 17\, Delft\, Zuid Holland\, 2616LL\, Netherlands
END:VEVENT
BEGIN:VEVENT
DTSTART;TZID=Europe/Amsterdam:20180204T080000
DTEND;TZID=Europe/Amsterdam:20180204T170000
DTSTAMP:20260421T155516
CREATED:20180129T222244Z
LAST-MODIFIED:20180129T222409Z
UID:1244-1517731200-1517763600@www.frederikhendrik.nl
SUMMARY:Rayon kampioenschappen Indoor
DESCRIPTION:2e klas Recurve en de 3e klas Recurve individueel ! \nKom gezellig kijken als je in de buurt bent
URL:https://www.frederikhendrik.nl/event/rayon-kampioenschappen-indoor/
LOCATION:Frederik Hendrik\, Bieslandsepad 17\, Delft\, Zuid Holland\, 2616LL\, Netherlands
END:VEVENT
BEGIN:VEVENT
DTSTART;TZID=Europe/Amsterdam:20171111T080000
DTEND;TZID=Europe/Amsterdam:20171112T170000
DTSTAMP:20260421T155516
CREATED:20170215T213155Z
LAST-MODIFIED:20170313T194320Z
UID:89-1510387200-1510506000@www.frederikhendrik.nl
SUMMARY:Delfts Blauw 2017
DESCRIPTION:Delfts blauw tournooi 2017
URL:https://www.frederikhendrik.nl/event/delfts-blauw-2017/
LOCATION:Frederik Hendrik\, Bieslandsepad 17\, Delft\, Zuid Holland\, 2616LL\, Netherlands
END:VEVENT
END:VCALENDAR